Workbook

Sheet ΣΕΛΙΔΑ1
A6: ΕΛΛΗΝΙΚΗ ΔΗΜΟΚΡΑΤΙΑ
A10: ΕΚΤΕΛΕΣΗ ΚΡΑΤΙΚΟΥ ΠΡΟΫΠΟΛΟΓΙΣΜΟΥ
A11: ΜΗΝΙΑΙΟ ΔΕΛΤΙΟ
A13: ΣΕΠΤΕΜΒΡΙΟΣ 2026
A32: ΥΠΟΥΡΓΕΙΟ ΕΘΝΙΚΗΣ ΟΙΚΟΝΟΜΙΑΣ ΚΑΙ ΟΙΚΟΝΟΜΙΚΩΝ
A33: ΓΕΝΙΚΟ ΛΟΓΙΣΤΗΡΙΟ ΤΟΥ ΚΡΑΤΟΥΣ
A39: Αθήνα, Οκτώβριος 2026
A40: minfin.gov.gr

Sheet ΒΑΣΙΚΟΣ_ΠΙΝΑΚΑΣ
B2: Ελληνική Δημοκρατία
B3: Υπουργείο Εθνικής Οικονομίας και Οικονομικών - Γενικό Λογιστήριο του Κράτους
B4: Γενική Δ/νση Δημοσιονομικής Πολιτικής και Προϋπολογισμού - Δ/νση Προϋπολογισμού Γενικής Κυβέρνησης
B7: ΠΙΝΑΚΑΣ 1. ΕΚΤΕΛΕΣΗ ΚΡΑΤΙΚΟΥ ΠΡΟΫΠΟΛΟΓΙΣΜΟΥ ΕΝΝΙΑΜΗΝΟΥ ΙΑΝΟΥΑΡΙΟΥ-ΣΕΠΤΕΜΒΡΙΟΥ 2026
C9: Ιανουάριος -Σεπτέμβριος 2025 | E9: Ιανουάριος -Σεπτέμβριος 2026 | K9: 2025 | M9: 2026
B10: σε εκατ. € (τροποποιημένη ταμειακή βάση) | C10: Πραγμ. | E10: Πραγμ. | F10: Εκτιμήσεις Προϋπολογισμού 2026 /1 | G10: Διαφορά | K10: Πραγμ. /2 | M10: Εκτιμήσεις Προϋπολογισμού 2026 /3
C11: (1) | E11: (2) | F11: (3) | G11: (4=2-3) | K11: (5) | M11: (6) | N11: (7)
B13: 1. Καθαρά Έσοδα Κρατικού Προϋπ/σμού (Ι+ΙΙ+ΙΙΙ+ΙV+V+VI+VII-β) | C13: =C15+C16+C17+C18+C19+C21+C22-C23 -> 54661.28 | E13: =E15+E16+E17+E18+E19+E21+E22-E23 -> 57810.547 | F13: =F15+F16+F17+F18+F19+F21+F22-F23 -> 55309.317 | G13: =G15+G16+G17+G18+G19+G21+G22-G23 -> 2501.2306 | K13: =K15+K16+K17+K18+K19+K21+K22-K23 -> 77065.016 | M13: =M15+M16+M17+M18+M19+M21+M22-M23 -> 80248.272 | N13: =N15+N16+N17+N18+N19+N21+N22-N23 -> 0
B15: I. Φόροι | C15: ='ΕΣΟΔΑ '!E17 -> 52721.979 | E15: ='ΕΣΟΔΑ '!G17 -> 55966.733 | F15: ='ΕΣΟΔΑ '!H17 -> 54099.312 | G15: =E15-F15 -> 1867.421 | K15: ='ΕΣΟΔΑ '!M17 -> 71908.632 | M15: ='ΕΣΟΔΑ '!O17 -> 73476.834
B16: II. Κοινωνικές εισφορές | C16: ='ΕΣΟΔΑ '!E44 -> 45.746262 | E16: ='ΕΣΟΔΑ '!G44 -> 40.499759 | F16: ='ΕΣΟΔΑ '!H44 -> 45.746262 | G16: =E16-F16 -> -5.2465027 | K16: ='ΕΣΟΔΑ '!M44 -> 61.305042 | M16: ='ΕΣΟΔΑ '!O44 -> 60.983191
B17: III. Μεταβιβάσεις | C17: ='ΕΣΟΔΑ '!E45 -> 4700.2543 | E17: ='ΕΣΟΔΑ '!G45 -> 4764.101 | F17: ='ΕΣΟΔΑ '!H45 -> 4685.3258 | G17: =E17-F17 -> 78.775216 | K17: ='ΕΣΟΔΑ '!M45 -> 7523.5737 | M17: ='ΕΣΟΔΑ '!O45 -> 10942.952
B18: IV. Πωλήσεις αγαθών και υπηρεσιών | C18: ='ΕΣΟΔΑ '!E46 -> 1802.1616 | E18: ='ΕΣΟΔΑ '!G46 -> 1464.6664 | F18: ='ΕΣΟΔΑ '!H46 -> 884.88381 | G18: =E18-F18 -> 579.78263 | K18: ='ΕΣΟΔΑ '!M46 -> 2917.8002 | M18: ='ΕΣΟΔΑ '!O46 -> 1213.3421
B19: V. Λοιπά τρέχοντα έσοδα | C19: ='ΕΣΟΔΑ '!E47 -> 2078.1233 | E19: ='ΕΣΟΔΑ '!G47 -> 2299.8076 | F19: ='ΕΣΟΔΑ '!H47 -> 1781.5303 | G19: =E19-F19 -> 518.27731 | K19: ='ΕΣΟΔΑ '!M47 -> 3047.0786 | M19: ='ΕΣΟΔΑ '!O47 -> 2540.9785
B20: εκ των οποίων: α. επιστροφές δαπανών για τόκους | C20: ='ΕΣΟΔΑ '!E56 -> 94.329843 | E20: ='ΕΣΟΔΑ '!G56 -> 3.2189407 | F20: ='ΕΣΟΔΑ '!H56 -> 0 | G20: =E20-F20 -> 3.2189407 | K20: ='ΕΣΟΔΑ '!M56 -> 95.711891 | M20: ='ΕΣΟΔΑ '!O56 -> 0
B21: VI. Πωλήσεις παγίων περιουσιακών στοιχείων | C21: ='ΕΣΟΔΑ '!E49 -> 21.833096 | E21: ='ΕΣΟΔΑ '!G49 -> 1.4829015 | F21: ='ΕΣΟΔΑ '!H49 -> 19 | G21: =E21-F21 -> -17.517099 | K21: ='ΕΣΟΔΑ '!M49 -> 25.922481 | M21: ='ΕΣΟΔΑ '!O49 -> 51.4
B22: VII. Πωλήσεις τιμαλφών | C22: ='ΕΣΟΔΑ '!E50 -> 0 | E22: ='ΕΣΟΔΑ '!G50 -> 0 | F22: ='ΕΣΟΔΑ '!H50 -> 0 | G22: =E22-F22 -> 0 | K22: ='ΕΣΟΔΑ '!M50 -> 0 | M22: ='ΕΣΟΔΑ '!O50 -> 0
B23: β. Επιστροφές φόρων | C23: ='ΕΣΟΔΑ '!E51 -> 6708.8174 | E23: ='ΕΣΟΔΑ '!G51 -> 6726.7435 | F23: ='ΕΣΟΔΑ '!H51 -> 6206.4815 | G23: =E23-F23 -> 520.26199 | K23: ='ΕΣΟΔΑ '!M51 -> 8419.2959 | M23: ='ΕΣΟΔΑ '!O51 -> 8038.2187
B25: 2. Δαπάνες Κρατικού Προϋπολογισμού (I+II+III+IV+V+VI+VII+VIII+IX+X+XI+XII) | C25: =C27+C28+C29+C30+C31+C32+C33+C34+C35+C36+C37+C38 -> 52259.913 | E25: =E27+E28+E29+E30+E31+E32+E33+E34+E35+E36+E37+E38 -> 57683.311 | F25: =F27+F28+F29+F30+F31+F32+F33+F34+F35+F36+F37+F38 -> 57206.399 | G25: =G27+G28+G29+G30+G31+G32+G33+G34+G35+G36+G37+G38 -> 476.91262 | K25: =K27+K28+K29+K30+K31+K32+K33+K34+K35+K36+K37+K38 -> 76965.121 | M25: =M27+M28+M29+M30+M31+M32+M33+M34+M35+M36+M37+M38 -> 86045.515 | N25: =N27+N28+N29+N30+N31+N32+N33+N34+N35+N36+N37+N38 -> 0
B27: Ι. Παροχές σε εργαζομένους | C27: =ΔΑΠΑΝΕΣ_ΚΑΤΑ_ΚΑΤΗΓΟΡΙΑ!D15 -> 11316.212 | E27: =ΔΑΠΑΝΕΣ_ΚΑΤΑ_ΚΑΤΗΓΟΡΙΑ!F15 -> 12055.49 | F27: 11501.136 | G27: =E27-F27 -> 554.35388 | K27: 15343.319 | M27: =ΔΑΠΑΝΕΣ_ΚΑΤΑ_ΚΑΤΗΓΟΡΙΑ!H15 -> 15688.49
B28: ΙΙ. Κοινωνικές Παροχές | C28: =ΔΑΠΑΝΕΣ_ΚΑΤΑ_ΚΑΤΗΓΟΡΙΑ!D19 -> 138.29009 | E28: =ΔΑΠΑΝΕΣ_ΚΑΤΑ_ΚΑΤΗΓΟΡΙΑ!F19 -> 155.07782 | F28: 152.93472 | G28: =E28-F28 -> 2.1430942 | K28: 518.03074 | M28: =ΔΑΠΑΝΕΣ_ΚΑΤΑ_ΚΑΤΗΓΟΡΙΑ!H19 -> 627.779
B29: ΙΙΙ. Μεταβιβάσεις | C29: =ΔΑΠΑΝΕΣ_ΚΑΤΑ_ΚΑΤΗΓΟΡΙΑ!D21 -> 23061.168 | E29: =ΔΑΠΑΝΕΣ_ΚΑΤΑ_ΚΑΤΗΓΟΡΙΑ!F21 -> 24914.674 | F29: 24845.659 | G29: =E29-F29 -> 69.01512 | K29: 33977.035 | M29: =ΔΑΠΑΝΕΣ_ΚΑΤΑ_ΚΑΤΗΓΟΡΙΑ!H21 -> 35897.013
B30: ΙV. Αγορές αγαθών και υπηρεσιών | C30: =ΔΑΠΑΝΕΣ_ΚΑΤΑ_ΚΑΤΗΓΟΡΙΑ!D44 -> 1318.3245 | E30: =ΔΑΠΑΝΕΣ_ΚΑΤΑ_ΚΑΤΗΓΟΡΙΑ!F44 -> 1358.5504 | F30: 1266.7523 | G30: =E30-F30 -> 91.798085 | K30: 2343.2659 | M30: =ΔΑΠΑΝΕΣ_ΚΑΤΑ_ΚΑΤΗΓΟΡΙΑ!H44 -> 2388.351
B31: V. Επιδοτήσεις | C31: =ΔΑΠΑΝΕΣ_ΚΑΤΑ_ΚΑΤΗΓΟΡΙΑ!D47 -> 103.91307 | E31: =ΔΑΠΑΝΕΣ_ΚΑΤΑ_ΚΑΤΗΓΟΡΙΑ!F47 -> 181.29448 | F31: 60.67117 | G31: =E31-F31 -> 120.62331 | K31: 147.29792 | M31: =ΔΑΠΑΝΕΣ_ΚΑΤΑ_ΚΑΤΗΓΟΡΙΑ!H47 -> 80.33
B32: VI. Τόκοι (σε ακαθάριστη βάση) | C32: =ΔΑΠΑΝΕΣ_ΚΑΤΑ_ΚΑΤΗΓΟΡΙΑ!D49 -> 7141.5626 | E32: =ΔΑΠΑΝΕΣ_ΚΑΤΑ_ΚΑΤΗΓΟΡΙΑ!F49 -> 7429.6981 | F32: 7025.848 | G32: =E32-F32 -> 403.85006 | K32: 8084.685 | M32: =ΔΑΠΑΝΕΣ_ΚΑΤΑ_ΚΑΤΗΓΟΡΙΑ!H49 -> 7917.419
B33: VII. Λοιπές Δαπάνες | C33: =ΔΑΠΑΝΕΣ_ΚΑΤΑ_ΚΑΤΗΓΟΡΙΑ!D51 -> 11.094609 | E33: =ΔΑΠΑΝΕΣ_ΚΑΤΑ_ΚΑΤΗΓΟΡΙΑ!F51 -> 22.469402 | F33: 9.5541348 | G33: =E33-F33 -> 12.915267 | K33: 26.233777 | M33: =ΔΑΠΑΝΕΣ_ΚΑΤΑ_ΚΑΤΗΓΟΡΙΑ!H51 -> 101.259
B34: VIII. Πιστώσεις υπό κατανομή (πλην ΠΔΕ και ΤΑΑ) | C34: =ΔΑΠΑΝΕΣ_ΚΑΤΑ_ΚΑΤΗΓΟΡΙΑ!D54 -> 0 | E34: =ΔΑΠΑΝΕΣ_ΚΑΤΑ_ΚΑΤΗΓΟΡΙΑ!F54 -> 0 | F34: 1961.4672 | G34: =E34-F34 -> -1961.4672 | K34: 0 | M34: =ΔΑΠΑΝΕΣ_ΚΑΤΑ_ΚΑΤΗΓΟΡΙΑ!H54 -> 3297.3
B35: IX. Αποκτήσεις παγίων περιουσιακών στοιχείων | C35: =ΔΑΠΑΝΕΣ_ΚΑΤΑ_ΚΑΤΗΓΟΡΙΑ!D58 -> 983.16408 | E35: =ΔΑΠΑΝΕΣ_ΚΑΤΑ_ΚΑΤΗΓΟΡΙΑ!F58 -> 1170.7791 | F35: 1557.8977 | G35: =E35-F35 -> -387.11861 | K35: 1914.249 | M35: =ΔΑΠΑΝΕΣ_ΚΑΤΑ_ΚΑΤΗΓΟΡΙΑ!H58 -> 3355.541
B36: X. Αποκτήσεις τιμαλφών | C36: =ΔΑΠΑΝΕΣ_ΚΑΤΑ_ΚΑΤΗΓΟΡΙΑ!D61 -> 0 | E36: =ΔΑΠΑΝΕΣ_ΚΑΤΑ_ΚΑΤΗΓΟΡΙΑ!F61 -> 0.20956 | F36: 0 | G36: =E36-F36 -> 0.20956 | K36: 0.01984 | M36: =ΔΑΠΑΝΕΣ_ΚΑΤΑ_ΚΑΤΗΓΟΡΙΑ!H61 -> 0.08
B37: XI. Δαπάνες Προγράμματος Δημοσίων Επενδύσεων | C37: =ΔΑΠΑΝΕΣ_ΚΑΤΑ_ΚΑΤΗΓΟΡΙΑ!D63 -> 5557.3472 | E37: =ΔΑΠΑΝΕΣ_ΚΑΤΑ_ΚΑΤΗΓΟΡΙΑ!F63 -> 4984.0905 | F37: 5679.155 | G37: =E37-F37 -> -695.06454 | K37: 9710.9843 | M37: =ΔΑΠΑΝΕΣ_ΚΑΤΑ_ΚΑΤΗΓΟΡΙΑ!H63 -> 9500
B38: XIΙ. Δαπάνες Ταμείου Ανάκαμψης και Ανθεκτικότητας | C38: =ΔΑΠΑΝΕΣ_ΚΑΤΑ_ΚΑΤΗΓΟΡΙΑ!D65 -> 2628.8373 | E38: =ΔΑΠΑΝΕΣ_ΚΑΤΑ_ΚΑΤΗΓΟΡΙΑ!F65 -> 5410.9786 | F38: 3145.324 | G38: =E38-F38 -> 2265.6546 | K38: 4899.9999 | M38: =ΔΑΠΑΝΕΣ_ΚΑΤΑ_ΚΑΤΗΓΟΡΙΑ!H65 -> 7191.953
B40: 3. Ισοζύγιο Κρατικού Προϋπολογισμού (1-2) (+πλεόνασμα, - έλλειμμα) /4 | C40: =C13-C25 -> 2401.3671 | E40: =E13-E25 -> 127.23591 | F40: =F13-F25 -> -1897.082 | G40: =G13-G25 -> 2024.3179 | K40: =K13-K25 -> 99.895374 | M40: =M13-M25 -> -5797.2433 | N40: =N13-N25 -> 0
B43: Πληροφοριακά στοιχεία:
B44: Πρωτογενές αποτέλεσμα κρατικού προϋπολογισμού (3 + 2.VI - 1.V.α) (+πλεόνασμα, - έλλειμμα) | C44: =C40+C32-C20 -> 9448.5998 | E44: =E40+E32-E20 -> 7553.715 | F44: =F40+F32-F20 -> 5128.766 | G44: =G40+G32-G20 -> 2424.949 | K44: =K40+K32-K20 -> 8088.8685 | M44: =M40+M32-M20 -> 2120.1757 | N44: =N40+N32-N20 -> 0
B45: Έσοδα από το Πρόγραμμα Δημοσίων Επενδύσεων (ΠΔΕ) /5 | C45: ='ΕΣΟΔΑ '!E57 -> 2873.7999 | E45: ='ΕΣΟΔΑ '!G57 -> 3518.0459 | F45: ='ΕΣΟΔΑ '!H57 -> 3240 | G45: =E45-F45 -> 278.04591 | K45: ='ΕΣΟΔΑ '!M57 -> 3557.3118 | M45: ='ΕΣΟΔΑ '!O57 -> 4544.879
B46: Έσοδα από το Ταμείο Ανάκαμψης και Ανθεκτικότητας /6 | C46: ='ΕΣΟΔΑ '!E58 -> 1345.9202 | E46: ='ΕΣΟΔΑ '!G58 -> 883.91973 | F46: ='ΕΣΟΔΑ '!H58 -> 1258.3273 | G46: =E46-F46 -> -374.40762 | K46: ='ΕΣΟΔΑ '!M58 -> 3454.5984 | M46: ='ΕΣΟΔΑ '!O58 -> 6175.4115
B48: 1/ Στόχοι του έτους 2026, προσαρμοσμένοι στα συνολικά μεγέθη όπως αποτυπώνονται στις εκτιμήσεις της εισηγητικής έκθεσης του Προϋπολογισμού 2026.
B49: 2/ Τα στοιχεία των εσόδων και των δαπανών του κρατικού προϋπολογισμού για το έτος 2025, είναι προσωρινά και θα οριστικοποιηθούν με την κύρωση του Απολογισμού Εσόδων και Eξόδων του Κράτους οικονομικού έτους 2025.
B50: 3/ Ετήσιες εκτιμήσεις του έτους 2026 όπως αποτυπώνονται στην εισηγητική έκθεση του Προϋπολογισμού 2026.
B51: 4/ Η αποτύπωση των στοιχείων είναι σύμφωνη με την νέα οικονομική ταξινόμηση (Προεδρικό διάταγμα 54/2018).
B52: 5/ Τα έσοδα από το Πρόγραμμα Δημοσίων Επενδύσεων (ΠΔΕ) περιλαμβάνονται στις κατηγορίες "Μεταβιβάσεις" και "Λοιπά τρέχοντα έσοδα".
...

Sheet ΧΡΗΜΑΤΟΔ_ΑΝΑΓΚΕΣ
B2: Ελληνική Δημοκρατία
B3: Υπουργείο Εθνικής Οικονομίας και Οικονομικών - Γενικό Λογιστήριο του Κράτους
B4: Γενική Δ/νση Δημοσιονομικής Πολιτικής και Προϋπολογισμού - Δ/νση Προϋπολογισμού Γενικής Κυβέρνησης
B7: ΠΙΝΑΚΑΣ 2. ΧΡΗΜΑΤΟΟΙΚΟΝΟΜΙΚΕΣ ΣΥΝΑΛΛΑΓΕΣ ΕΝΝΙΑΜΗΝΟΥ ΙΑΝΟΥΑΡΙΟΥ-ΣΕΠΤΕΜΒΡΙΟΥ 2026
C9: Ιανουάριος -Σεπτέμβριος 2025 | E9: Ιανουάριος -Σεπτέμβριος 2026 | G9: 2025 | I9: 2026
B10: σε εκατ. € (τροποποιημένη ταμειακή βάση) | C10: Πραγμ. | E10: Πραγμ. | G10: Πραγμ. /1 | I10: Εκτιμήσεις Προϋπολογισμού 2026
C11: (1) | E11: (2) | G11: (3) | I11: (4) | J11: (5)
B13: 4. Εισπράξεις από χρηματοοικονομικές συναλλαγές (Ι+II+III+IV+V+VI+VII+VIII+IX) | C13: =C15+C16+C17+C18+C19+C20+C21+C22+C23 -> 1214592.7 | E13: =E15+E16+E17+E18+E19+E20+E21+E22+E23 -> 1340607 | G13: =G15+G16+G17+G18+G19+G20+G21+G22+G23 -> 1628654.7 | I13: =I15+I16+I17+I18+I19+I20+I21+I22+I23 -> 1685387 | J13: =J15+J17+J18+J19+J20+J21+J22+J23 -> 0
B15: Ι. Χρεωστικοί τίτλοι | C15: 1055.8929 | E15: 5.692931 | G15: 1061.5859 | I15: 11
B16: II. Δάνεια | C16: 59.446647 | E16: 4316.5936 | G16: 971.8282 | I16: 5525
B17: ΙΙI. Συμμετοχικοί τίτλοι και μερίδια επενδυτικών κεφαλαίων | C17: 329.53107 | E17: 2771.1325 | G17: 330.79996 | I17: 228
B18: ΙV. Προκαταβολές και λοιπές απαιτήσεις | C18: 42.565 | E18: 64.69786 | G18: 33.694965 | I18: 0
B19: V. Ειδικά τραβηκτικά δικαιώματα (SDRs) (υποχρεώσεις) | C19: 0 | E19: 0 | G19: 0 | I19: 0
B20: VI. Υποχρεώσεις από Νόμισμα και καταθέσεις | C20: 55.457276 | E20: 37.400613 | G20: 83.50474 | I20: 63
B21: VII. Χρεωστικοί τίτλοι (υποχρεώσεις) | C21: 19913.398 | E21: 18013.22 | G21: 23825.339 | I21: 23875
B22: VIΙI. Δάνεια (υποχρεώσεις) | C22: 1192144.5 | E22: 1314728.4 | G22: 1601133.6 | I22: 1654726
B23: IX. Χρηματοοικονομικά παράγωγα | C23: 991.98317 | E23: 669.86047 | G23: 1214.3208 | I23: 959
B25: 5. Πληρωμές για χρηματοοικονομικές συναλλαγές (Ι+II+III+IV+V+VI+VII) | C25: =C26+C27+C28+C29+C30+C31+C32 -> 1216229 | E25: =E26+E27+E28+E29+E30+E31+E32 -> 1342940.6 | G25: =G26+G27+G28+G29+G30+G31+G32 -> 1627251.8 | I25: =I26+I27+I28+I29+I30+I31+I32 -> 1698031.5 | J25: =J26+J27+J28+J29+J30+J31+J32 -> 0
B26: I. Δάνεια | C26: 1823.959 | E26: 5851.9125 | G26: 3818.9451 | I26: 12079.352
B27: II. Συμμετοχικοί τίτλοι και μερίδια επενδυτικών κεφαλαίων | C27: 131.24736 | E27: 1718.7454 | G27: 156.95965 | I27: 1587.084
B28: III. Προκαταβολές και λοιπές απαιτήσεις | C28: 10.067019 | E28: 15.142083 | G28: 33.354965 | I28: 0
B29: IV. Υποχρεώσεις από Νόμισμα και καταθέσεις | C29: 0 | E29: 0 | G29: 0 | I29: 0
B30: V. Χρεωστικοί τίτλοι (υποχρεώσεις) | C30: 16326.097 | E30: 17818.237 | G30: 20349.807 | I30: 24909.729
B31: VI. Δάνεια (υποχρεώσεις) | C31: 1197351.3 | E31: 1317244.1 | G31: 1602255.1 | I31: 1659113.7
B32: VII. Χρηματοοικονομικά παράγωγα /2 | C32: 586.33473 | E32: 292.41926 | G32: 637.58031 | I32: 341.662
B36: Πληροφοριακά στοιχεία:
B37: Συνολικές χρηματοδοτικές ανάγκες Κρατικού Προϋπολογισμού
B40: 1/ Τα στοιχεία των εσόδων και των δαπανών του κρατικού προϋπολογισμού για το έτος 2025, είναι προσωρινά και θα οριστικοποιηθούν με την κύρωση του Απολογισμού Εσόδων και Eξόδων του Κράτους οικονομικού έτους 2025.
B41: 2/ Η κατηγορία δαπανών "Χρηματοοικονομικά παράγωγα" περιέχει τόσο τις πληρωμές τόκων όσο και τις πληρωμές χρεολυσίων συμφωνιών ανταλλαγής, οι οποίες δεν εμφανίζονται στις δαπάνες τόκων του Πίνακα 1.

Sheet ΕΣΟΔΑ 
B2: Ελληνική Δημοκρατία | R2: Ελληνική Δημοκρατία
B3: Υπουργείο Εθνικής Οικονομίας και Οικονομικών - Γενικό Λογιστήριο του Κράτους | R3: Υπουργείο Οικονομικών - Γενικό Λογιστήριο του Κράτους
B4: Γενική Δ/νση Δημοσιονομικής Πολιτικής και Προϋπολογισμού - Δ/νση Προϋπολογισμού Γενικής Κυβέρνησης | R4: Γενική Δ/νση Δημοσιονομικής Πολιτικής και Προϋπολογισμού - Δ/νση Προϋπολογισμού Γενικής Κυβέρνησης
B7: ΠΙΝΑΚΑΣ 3. ΕΣΟΔΑ ΚΡΑΤΙΚΟΥ ΠΡΟΫΠΟΛΟΓΙΣΜΟΥ ΕΝΝΙΑΜΗΝΟΥ ΙΑΝΟΥΑΡΙΟΥ-ΣΕΠΤΕΜΒΡΙΟΥ 2026 | R7: ΠΙΝΑΚΑΣ 3. ΕΣΟΔΑ ΚΡΑΤΙΚΟΥ ΠΡΟΫΠΟΛΟΓΙΣΜΟΥ ΣΕΠΤΕΜΒΡΙΟΣ
E9: Ιανουάριος -Σεπτέμβριος 2025 | G9: Ιανουάριος -Σεπτέμβριος 2026 | M9: 2025 | O9: 2026
B10: σε εκατ. € (τροποποιημένη ταμειακή βάση) | E10: Πραγμ. | G10: Πραγμ. | H10: Εκτιμήσεις Προϋπολογισμού 2026 /1 | I10: Διαφορά | M10: Πραγμ. /2 | O10: Εκτιμήσεις Προϋπολογισμού 2026 /3 | R10: σε εκατ. € (τροποποιημένη ταμειακή βάση)
E11: (1) | G11: (2) | H11: (3) | I11: (4=2-3) | M11: (5) | O11: (6) | P11: (7)
B13: Καθαρά Έσοδα Κρατικού Προϋπολογισμού (α)-(β) | E13: =E15-E51 -> 54661.28 | G13: =G15-G51 -> 57810.547 | H13: =H15-H51 -> 55309.317 | I13: =G13-H13 -> 2501.2306 | M13: =M15-M51 -> 77065.016 | O13: =O15-O51 -> 80248.272 | P13: =P15-P51 -> 0
B15: (α) Έσοδα Κρατικού Προϋπολογισμού (I+II+III+IV+V+VI+VII) | E15: =E17+E44+E45+E46+E47+E49+E50 -> 61370.098 | G15: =G17+G44+G45+G46+G47+G49+G50 -> 64537.291 | H15: =H17+H44+H45+H46+H47+H49+H50 -> 61515.798 | I15: =G15-H15 -> 3021.4925 | M15: =M17+M44+M45+M46+M47+M49+M50 -> 85484.312 | O15: =O17+O44+O45+O46+O47+O49+O50 -> 88286.49 | P15: =P17+P44+P45+P46+P47+P49+P50 -> 0 | R15: (α)
B17: I. Φόροι (A+B+Γ+Δ+E+ΣΤ+Ζ) | E17: =E18+E33+E34+E36+E37+E41+E42 -> 52721.979 | G17: =G18+G33+G34+G36+G37+G41+G42 -> 55966.733 | H17: =H18+H33+H34+H36+H37+H41+H42 -> 54099.312 | I17: =G17-H17 -> 1867.421 | M17: =M18+M33+M34+M36+M37+M41+M42 -> 71908.632 | O17: =O18+O33+O34+O36+O37+O41+O42 -> 73476.834 | P17: =P18+P33+P34+P36+P37+P41+P42 -> 0 | R17: I.
B18: A. | C18: Φόροι επί αγαθών και υπηρεσιών (1+2+3+4+5+6+7) | E18: =E19+E23+E27+E28+E29+E30+E32 -> 29037.989 | G18: =G19+G23+G27+G28+G29+G30+G32 -> 31542.611 | H18: =H19+H23+H27+H28+H29+H30+H32 -> 30357.894 | I18: =G18-H18 -> 1184.7172 | M18: =M19+M23+M27+M28+M29+M30+M32 -> 39480.061 | O18: =O19+O23+O27+O28+O29+O30+O32 -> 40939.814 | P18: =P19+P23+P27+P28+P29+P30+P32 -> 0 | R18: A.
B19: 1 | C19: ΦΠΑ (1.α + 1.β + 1.γ) | E19: =E20+E21+E22 -> 20378.165 | G19: =G20+G21+G22 -> 23062.162 | H19: =H20+H21+H22 -> 21663.564 | I19: =G19-H19 -> 1398.5979 | M19: =M20+M21+M22 -> 27774.712 | O19: =O20+O21+O22 -> 29306.541 | P19: =P20+P21+P22 -> 0 | R19: 1
B20: 1.α | C20: ΦΠΑ στα πετρελαιοειδή και στα παράγωγα αυτών | E20: 1481.4994 | G20: 1696.0297 | H20: 1507.0246 | I20: =G20-H20 -> 189.00508 | M20: 2044.8109 | O20: 2123.5205 | R20: 1.α
B21: 1.β | C21: ΦΠΑ καπνικών προϊόντων | E21: 452.8413 | G21: 457.64243 | H21: 452.8413 | I21: =G21-H21 -> 4.8011273 | M21: 607.69892 | O21: 598.87373 | R21: 1.β
B22: 1.γ | C22: ΦΠΑ λοιπών προϊόντων και υπηρεσιών | E22: 18443.824 | G22: 20908.49 | H22: 19703.698 | I22: =G22-H22 -> 1204.7917 | M22: 25122.202 | O22: 26584.147 | R22: 1.γ
B23: 2 | C23: Ειδικοί φόροι κατανάλωσης - ΕΦΚ (2.α + 2.β + 2.γ) | E23: =E24+E25+E26 -> 5525.1768 | G23: =G24+G25+G26 -> 5326.228 | H23: =H24+H25+H26 -> 5565.1355 | I23: =G23-H23 -> -238.90745 | M23: =M24+M25+M26 -> 7438.3532 | O23: =O24+O25+O26 -> 7456.1856 | P23: =P24+P25+P26 -> 0 | R23: 2
B24: 2.α | C24: ΕΦΚ ενεργειακών προϊόντων | E24: 3205.95 | G24: 2994.0534 | H24: 3205.95 | I24: =G24-H24 -> -211.89657 | M24: 4360.3127 | O24: 4336.699 | R24: 2.α
B25: 2.β | C25: ΕΦΚ καπνικών προϊόντων | E25: 1760.1478 | G25: 1767.1206 | H25: 1790.474 | I25: =G25-H25 -> -23.353396 | M25: 2361.0089 | O25: 2383.8052 | R25: 2.β
B26: 2.γ | C26: ΕΦΚ λοιπών προϊόντων | E26: 559.07899 | G26: 565.05406 | H26: 568.71155 | I26: =G26-H26 -> -3.6574852 | M26: 717.03164 | O26: 735.6815 | R26: 2.γ
B27: 3 | C27: Φόροι με μορφή χαρτοσήμου | E27: 324.16589 | G27: 341.41552 | H27: 337.00558 | I27: =G27-H27 -> 4.4099462 | M27: 428.30295 | O27: 426.75964 | R27: 3
B28: 4 | C28: Φόροι επί χρηματοοικονομικών και κεφαλαιακών συναλλαγών | E28: 463.80606 | G28: 533.86464 | H28: 482.17666 | I28: =G28-H28 -> 51.687974 | M28: 669.13378 | O28: 720.81937 | R28: 4
B29: 5 | C29: Φόροι ταξινόμησης οχημάτων | E29: 346.91792 | G29: 351.99054 | H29: 356.61638 | I29: =G29-H29 -> -4.6258417 | M29: 462.63553 | O29: 465.81732 | R29: 5
B30: 6 | C30: Λοιποί φόροι επί συγκεκριμένων υπηρεσιών | E30: 1836.4931 | G30: 1765.0648 | H30: 1787.9823 | I30: =G30-H30 -> -22.917461 | M30: 2488.8542 | O30: 2352.05 | R30: 6
B31: 6.α | C31: εκ των οποίων: Φόρος ασφαλίστρων | E31: 475.22698 | G31: 500.96166 | H31: 502.03547 | I31: =G31-H31 -> -1.0738079 | M31: 631.45805 | O31: 657.56822 | R31: 6.α
B32: 7 | C32: Λοιποί φόροι επί αγαθών | E32: 163.26511 | G32: 161.88535 | H32: 165.41329 | I32: =G32-H32 -> -3.5279344 | M32: 218.06919 | O32: 211.64095 | R32: 7
B33: Β. | C33: Φόροι και δασμοί επί εισαγωγών | E33: 301.03531 | G33: 335.70662 | H33: 321.21997 | I33: =G33-H33 -> 14.486655 | M33: 398.26846 | O33: 431.81276 | R33: Β.
B34: Γ. | C34: Τακτικοί φόροι ακίνητης περιουσίας | E34: 2109.3782 | G34: 2100.1366 | H34: 2037.3321 | I34: =G34-H34 -> 62.80446 | M34: 2452.6397 | O34: 2328.2335 | R34: Γ.
B35: Γ.1 | C35: εκ των οποίων: ΕΝΦΙΑ | E35: 2097.9154 | G35: 2088.9938 | H35: 2028.9514 | I35: =G35-H35 -> 60.042397 | M35: 2438.2851 | O35: 2315.8895 | R35: Γ.1
B36: Δ. | C36: Λοιποί φόροι επί παραγωγής | E36: 417.67915 | G36: 840.01371 | H36: 492.80148 | I36: =G36-H36 -> 347.21223 | M36: 525.96868 | O36: 586.39658 | R36: Δ.
B37: E. | C37: Φόρος εισοδήματος (E.1+E.2+E.3) | E37: =E38+E39+E40 -> 19796.364 | G37: =G38+G39+G40 -> 20170.718 | H37: =H38+H39+H40 -> 19810.565 | I37: =G37-H37 -> 360.15268 | M37: =M38+M39+M40 -> 26541.52 | O37: =O38+O39+O40 -> 26597.031 | P37: =P38+P39+P40 -> 0 | R37: E.
B38: Ε.1 | C38: Φόρος εισοδήματος πληρωτέος από Φυσικά Πρόσωπα (ΦΠ) | E38: 12307.991 | G38: 12692.92 | H38: 12284.593 | I38: =G38-H38 -> 408.32726 | M38: 16010.83 | O38: 15713.76 | R38: Ε.1
B39: E.2 | C39: Φόρος εισοδήματος πληρωτέος από εταιρίες (ΝΠ) | E39: 5614.8954 | G39: 5611.9534 | H39: 5670.1674 | I39: =G39-H39 -> -58.213917 | M39: 8126.4175 | O39: 8529.2277 | R39: E.2
B40: E.3 | C40: Λοιποί φόροι εισοδήματος | E40: 1873.4773 | G40: 1865.8441 | H40: 1855.8047 | I40: =G40-H40 -> 10.039333 | M40: 2404.2719 | O40: 2354.0433 | R40: E.3
B41: ΣΤ. | C41: Φόροι κεφαλαίου | E41: 185.36756 | G41: 189.1948 | H41: 185.36756 | I41: =G41-H41 -> 3.8272391 | M41: 266.04442 | O41: 250.37059 | R41: ΣΤ.
B42: Ζ. | C42: Λοιποί τρέχοντες φόροι | E42: 874.16575 | G42: 788.35243 | H42: 894.13187 | I42: =G42-H42 -> -105.77944 | M42: 2244.1303 | O42: 2343.1756 | R42: Ζ.
B43: Ζ.1 | C43: εκ των οποίων: Φόροι οχημάτων | E43: 91.153608 | G43: 96.2107 | H43: 94.764054 | I43: =G43-H43 -> 1.4466465 | M43: 1169.9106 | O43: 1248.6736 | R43: Ζ.1
B44: II. Κοινωνικές εισφορές | E44: 45.746262 | G44: 40.499759 | H44: 45.746262 | I44: =G44-H44 -> -5.2465027 | M44: 61.305042 | O44: 60.983191 | R44: II
B45: III. Μεταβιβάσεις | E45: 4700.2543 | G45: 4764.101 | H45: 4685.3258 | I45: =G45-H45 -> 78.775216 | M45: 7523.5737 | O45: 10942.952 | R45: III
B46: IV. Πωλήσεις αγαθών και υπηρεσιών | E46: 1802.1616 | G46: 1464.6664 | H46: 884.88381 | I46: =G46-H46 -> 579.78263 | M46: 2917.8002 | O46: 1213.3421 | R46: IV
B47: V. Λοιπά τρέχοντα έσοδα | E47: 2078.1233 | G47: 2299.8076 | H47: 1781.5303 | I47: =G47-H47 -> 518.27731 | M47: 3047.0786 | O47: 2540.9785 | R47: V
...

Sheet ΔΑΠΑΝΕΣ_ΚΑΤΑ_ΚΑΤΗΓΟΡΙΑ
B2: Ελληνική Δημοκρατία
B3: Υπουργείο Εθνικής Οικονομίας και Οικονομικών - Γενικό Λογιστήριο του Κράτους
B4: Γενική Δ/νση Δημοσιονομικής Πολιτικής και Προϋπολογισμού - Δ/νση Προϋπολογισμού Γενικής Κυβέρνησης
B7: ΠΙΝΑΚΑΣ 4. ΔΑΠΑΝΕΣ ΚΡΑΤΙΚΟΥ ΠΡΟΫΠΟΛΟΓΙΣΜΟΥ ΚΑΤΑ ΚΑΤΗΓΟΡΙΑ ΕΝΝΙΑΜΗΝΟΥ ΙΑΝΟΥΑΡΙΟΥ-ΣΕΠΤΕΜΒΡΙΟΥ 2026
D9: Ιανουάριος -Σεπτέμβριος 2025 | F9: Ιανουάριος -Σεπτέμβριος 2026 | H9: 2026
B10: σε εκατ. € (τροποποιημένη ταμειακή βάση) | D10: Πραγμ. | F10: Πραγμ. | H10: Εκτιμήσεις Προϋπολογισμού 2026 /1 | J10: Ποσοστό εκτέλεσης (%)
D11: (1) | F11: (2) | H11: (3) | I11: (4) | J11: (4=2/3)
B13: Συνολικές Δαπάνες Κρατικού Προϋπολογισμού (I+II+III+IV+V+VI+VII+VIII+IX+X+XI+XII) | D13: =D15+D19+D21+D44+D47+D49+D51+D54+D58+D61+D63+D65 -> 52259.913 | F13: =F15+F19+F21+F44+F47+F49+F51+F54+F58+F61+F63+F65 -> 57683.311 | H13: =H15+H19+H21+H44+H47+H49+H51+H54+H58+H61+H63+H65 -> 86045.515 | I13: =I15+I19+I21+I44+I47+I49+I51+I54+I58+I61+I63+I65 -> 0 | J13: =IFERROR(F13/H13,"") -> 0.67038138
B15: I. | C15: Παροχές σε εργαζομένους (A+B) | D15: =D16+D17 -> 11316.212 | F15: =F16+F17 -> 12055.49 | H15: =H16+H17 -> 15688.49 | I15: =I16+I17 -> 0 | J15: =IFERROR(F15/H15,"") -> 0.76842894
B16: A. | C16: Μικτές αποδοχές | D16: 9612.9979 | F16: 10241.669 | H16: 13297.693 | J16: =IFERROR(F16/H16,"") -> 0.77018392
B17: B. | C17: Εργοδοτικές εισφορές | D17: 1703.2136 | F17: 1813.8205 | H17: 2390.797 | J17: =IFERROR(F17/H17,"") -> 0.7586677
B19: II. | C19: Κοινωνικές Παροχές | D19: 138.29009 | F19: 155.07782 | H19: 627.779 | J19: =IFERROR(F19/H19,"") -> 0.24702613
B21: III. | C21: Μεταβιβάσεις (Α+Β+Γ+Δ+Ε+ΣΤ) | D21: =D22+D33+D34+D35+D37+D38 -> 23061.168 | F21: =F22+F33+F34+F35+F37+F38 -> 24914.674 | H21: =H22+H33+H34+H35+H37+H38 -> 35897.013 | I21: =I22+I33+I34+I35+I37+I38 -> 0 | J21: =IFERROR(F21/H21,"") -> 0.69405981
B22: Α. | C22: Τρέχουσες εγχώριες μεταβιβάσεις (1+2+3+4+5+6+7) | D22: =D23+D24+D26+D28+D30+D31+D32 -> 20084.305 | F22: =F23+F24+F26+F28+F30+F31+F32 -> 21897.014 | H22: =H23+H24+H26+H28+H30+H31+H32 -> 31656.986 | I22: =I23+I24+I26+I28+I30+I31+I32 -> 0 | J22: =IFERROR(F22/H22,"") -> 0.6916961
B23: 1 | C23: Μεταβιβάσεις στην Κεντρική Διοίκηση | D23: 0 | F23: 0 | H23: 0 | J23: =IFERROR(F23/H23,"")
B24: 2 | C24: Μεταβιβάσεις σε Νοσοκομεία | D24: 761.34318 | F24: 861.83806 | H24: 1151.148 | J24: =IFERROR(F24/H24,"") -> 0.74867702
C25: εκ των οποίων: Επιχορηγήσεις εφημεριών και υπερωριών | D25: 260.53344 | F25: 277.07894 | H25: 386.8 | J25: =IFERROR(F25/H25,"") -> 0.71633644
B26: 3 | C26: Μεταβιβάσεις σε ΥΠΕ-ΠΕΔΥ | D26: 190.61293 | F26: 160.2954 | H26: 231.95 | J26: =IFERROR(F26/H26,"") -> 0.69107737
C27: εκ των οποίων: Επιχορηγήσεις εφημεριών και υπερωριών | D27: 36.015 | F27: 39.22875 | H27: 66.9 | J27: =IFERROR(F27/H27,"") -> 0.58637892
B28: 4 | C28: Μεταβιβάσεις σε ΟΤΑ | D28: 2415.9628 | F28: 2553.2192 | H28: 3402.444 | J28: =IFERROR(F28/H28,"") -> 0.75040742
C29: εκ των οποίων: Αποδόσεις σε ΟΤΑ | D29: 2220.312 | F29: 2363.3608 | H29: 3141.5 | J29: =IFERROR(F29/H29,"") -> 0.75230331
B30: 5 | C30: Μεταβιβάσεις σε ΟΚΑ | D30: 14491.155 | F30: 15023.241 | H30: 22406.69 | J30: =IFERROR(F30/H30,"") -> 0.67048017
B31: 6 | C31: Μεταβιβάσεις σε λοιπά νομικά πρόσωπα | D31: 2126.3633 | F31: 2916.0876 | H31: 4392.231 | J31: =IFERROR(F31/H31,"") -> 0.66391945
B32: 7 | C32: Λοιπές μεταβιβάσεις | D32: 98.868213 | F32: 382.33225 | H32: 72.523 | J32: =IFERROR(F32/H32,"") -> 5.2718758
B33: Β. | C33: Τρέχουσες μεταβιβάσεις προς οργανισμούς και κράτη-μέλη της Ευρωπαϊκής Ένωσης (Ε.Ε) | D33: 1863.7581 | F33: 2244.8259 | H33: 2948.96 | J33: =IFERROR(F33/H33,"") -> 0.76122631
B34: Γ. | C34: Τρέχουσες μεταβιβάσεις σε φορείς του εξωτερικού | D34: 139.93915 | F34: 152.93672 | H34: 310.475 | J34: =IFERROR(F34/H34,"") -> 0.49258948
B35: Δ. | C35: Επιχορηγήσεις επενδύσεων εσωτερικού | D35: 153.03 | F35: 153.24963 | H35: 224.95 | J35: =IFERROR(F35/H35,"") -> 0.68126086
C36: εκ των οποίων: Κεντρικοί Αυτοτελείς Πόροι (Κ.Α.Π.) για επενδυτικές δαπάνες Δήμων | D36: 153 | F36: 153 | H36: 200 | J36: =IFERROR(F36/H36,"") -> 0.765
B37: Ε. | C37: Επιχορηγήσεις επενδύσεων εξωτερικού | D37: 0 | F37: 0 | H37: 3.45 | J37: =IFERROR(F37/H37,"") -> 0
B38: ΣΤ. | C38: Λοιπές κεφαλαιακές μεταβιβάσεις (1+2+3+4) | D38: =D39+D40+D41+D42 -> 820.13562 | F38: =F39+F40+F41+F42 -> 466.64774 | H38: =H39+H40+H41+H42 -> 752.192 | I38: =I39+I40+I41+I42 -> 0 | J38: =IFERROR(F38/H38,"") -> 0.62038382
B39: 1 | C39: Καταπτώσεις εγγυήσεων | D39: 218.07814 | F39: 118.60206 | H39: 407.319 | J39: =IFERROR(F39/H39,"") -> 0.29117734
B40: 2 | C40: Αναλήψεις χρεών | D40: 0 | F40: 0 | H40: 0 | J40: =IFERROR(F40/H40,"")
B41: 3 | C41: Αποζημιώσεις λόγω δικαστικών αποφάσεων | D41: 62.050635 | F41: 77.945448 | H41: 2.1 | J41: =IFERROR(F41/H41,"") -> 37.11688
B42: 4 | C42: Κεφαλαιουχικές ενισχύσεις - Δωρεές -Λοιπές κεφαλαιακές μεταβιβάσεις διάφορες | D42: 540.00685 | F42: 270.10023 | H42: 342.773 | J42: =IFERROR(F42/H42,"") -> 0.78798573
B44: IV. | C44: Αγορές αγαθών και υπηρεσιών | D44: 1318.3245 | F44: 1358.5504 | H44: 2388.351 | J44: =IFERROR(F44/H44,"") -> 0.56882358
C45: εκ των οποίων: Προμήθειες για Χρηματοοικονομικές υπηρεσίες | D45: 27.985155 | F45: 41.927984 | H45: 40.04 | J45: =IFERROR(F45/H45,"") -> 1.0471524
B47: V. | C47: Επιδοτήσεις | D47: 103.91307 | F47: 181.29448 | H47: 80.33 | J47: =IFERROR(F47/H47,"") -> 2.2568714
B49: VI. | C49: Τόκοι (σε ακαθάριστη βάση) | D49: 7141.5626 | F49: 7429.6981 | H49: 7917.419 | J49: =IFERROR(F49/H49,"") -> 0.938399
B51: VII. | C51: Λοιπές Δαπάνες | D51: 11.094609 | F51: 22.469402 | H51: 101.259 | J51: =IFERROR(F51/H51,"") -> 0.22190029
C52: εκ των οποίων: επιστροφές εσόδων | D52: 1.2352356 | F52: 0.84089429 | H52: 99.999 | J52: =IFERROR(F52/H52,"") -> 0.008409027
...
